BEGIN:VCALENDAR
VERSION:2.0
PRODID:-//Argyle Community Association - ECPv6.15.20//NONSGML v1.0//EN
CALSCALE:GREGORIAN
METHOD:PUBLISH
X-WR-CALNAME:Argyle Community Association
X-ORIGINAL-URL:https://argylecommunity.ca
X-WR-CALDESC:Events for Argyle Community Association
REFRESH-INTERVAL;VALUE=DURATION:PT1H
X-Robots-Tag:noindex
X-PUBLISHED-TTL:PT1H
BEGIN:VTIMEZONE
TZID:UTC
BEGIN:STANDARD
TZOFFSETFROM:+0000
TZOFFSETTO:+0000
TZNAME:UTC
DTSTART:20250101T000000
END:STANDARD
END:VTIMEZONE
BEGIN:VEVENT
DTSTART;TZID=UTC:20260512T080000
DTEND;TZID=UTC:20260512T170000
DTSTAMP:20260423T125126
CREATED:20250724T160602Z
LAST-MODIFIED:20250724T160602Z
UID:510-1778572800-1778605200@argylecommunity.ca
SUMMARY:Community Conversations
DESCRIPTION:Please join us for an enriching evening at the East Lions Community Centre.  This event is free and welcomes all residents. If you’ve never attended one of our Community Conversations before\, we’re excited to extend a warm welcome to you.
URL:https://argylecommunity.ca/event/community-conversations-15/
LOCATION:East Lions Community Centre\, 1731 Churchill Ave\, London\, Ontario\, N5W 5P4\, Canada
END:VEVENT
BEGIN:VEVENT
DTSTART;TZID=UTC:20260609T190000
DTEND;TZID=UTC:20260609T203000
DTSTAMP:20260423T125126
CREATED:20250724T160713Z
LAST-MODIFIED:20250724T160713Z
UID:512-1781031600-1781037000@argylecommunity.ca
SUMMARY:Community Conversations
DESCRIPTION:Please join us for an enriching evening at the East Lions Community Centre.  This event is free and welcomes all residents. If you’ve never attended one of our Community Conversations before\, we’re excited to extend a warm welcome to you.
URL:https://argylecommunity.ca/event/community-conversations-16/
LOCATION:East Lions Community Centre\, 1731 Churchill Ave\, London\, Ontario\, N5W 5P4\, Canada
END:VEVENT
END:VCALENDAR